BEGIN:VCALENDAR
VERSION:2.0
PRODID:-//Lauren Bateman Music School - ECPv6.15.20//NONSGML v1.0//EN
CALSCALE:GREGORIAN
METHOD:PUBLISH
X-ORIGINAL-URL:https://www.lbmusicschool.com
X-WR-CALDESC:Events for Lauren Bateman Music School
REFRESH-INTERVAL;VALUE=DURATION:PT1H
X-Robots-Tag:noindex
X-PUBLISHED-TTL:PT1H
BEGIN:VTIMEZONE
TZID:America/Chicago
BEGIN:DAYLIGHT
TZOFFSETFROM:-0600
TZOFFSETTO:-0500
TZNAME:CDT
DTSTART:20250309T080000
END:DAYLIGHT
BEGIN:STANDARD
TZOFFSETFROM:-0500
TZOFFSETTO:-0600
TZNAME:CST
DTSTART:20251102T070000
END:STANDARD
BEGIN:DAYLIGHT
TZOFFSETFROM:-0600
TZOFFSETTO:-0500
TZNAME:CDT
DTSTART:20260308T080000
END:DAYLIGHT
BEGIN:STANDARD
TZOFFSETFROM:-0500
TZOFFSETTO:-0600
TZNAME:CST
DTSTART:20261101T070000
END:STANDARD
BEGIN:DAYLIGHT
TZOFFSETFROM:-0600
TZOFFSETTO:-0500
TZNAME:CDT
DTSTART:20270314T080000
END:DAYLIGHT
BEGIN:STANDARD
TZOFFSETFROM:-0500
TZOFFSETTO:-0600
TZNAME:CST
DTSTART:20271107T070000
END:STANDARD
END:VTIMEZONE
BEGIN:VEVENT
DTSTART;TZID=America/Chicago:20260417T200000
DTEND;TZID=America/Chicago:20260417T220000
DTSTAMP:20260423T181907
CREATED:20260225T153309Z
LAST-MODIFIED:20260225T153359Z
UID:1299-1776456000-1776463200@www.lbmusicschool.com
SUMMARY:Karaoke Night
DESCRIPTION:Join LB Music School for a fun night of music and food at J&J Asian Cuisine in Danvers. You do not have to perform to participate. Stop by\, hang out with other adult students from LB and have a few good laughs over Mai Thais and karaoke. \nThere is not registration for this event. We will plan on hanging out in the restaurant and bar area. Seating is first come firs serve.
URL:https://www.lbmusicschool.com/event/karaoke-night/
LOCATION:J&J Asian Cuisine\, 156 Andover St\, Danvers\, MA\, 01923\, United States
ATTACH;FMTTYPE=image/jpeg:https://www.lbmusicschool.com/wp-content/uploads/2026/02/J-and-J.jpg
END:VEVENT
END:VCALENDAR