BEGIN:VCALENDAR
VERSION:2.0
PRODID:-//Lauren Bateman Music School - ECPv6.15.20//NONSGML v1.0//EN
CALSCALE:GREGORIAN
METHOD:PUBLISH
X-WR-CALNAME:Lauren Bateman Music School
X-ORIGINAL-URL:https://www.lbmusicschool.com
X-WR-CALDESC:Events for Lauren Bateman Music School
REFRESH-INTERVAL;VALUE=DURATION:PT1H
X-Robots-Tag:noindex
X-PUBLISHED-TTL:PT1H
BEGIN:VTIMEZONE
TZID:America/Chicago
BEGIN:DAYLIGHT
TZOFFSETFROM:-0600
TZOFFSETTO:-0500
TZNAME:CDT
DTSTART:20240310T080000
END:DAYLIGHT
BEGIN:STANDARD
TZOFFSETFROM:-0500
TZOFFSETTO:-0600
TZNAME:CST
DTSTART:20241103T070000
END:STANDARD
BEGIN:DAYLIGHT
TZOFFSETFROM:-0600
TZOFFSETTO:-0500
TZNAME:CDT
DTSTART:20250309T080000
END:DAYLIGHT
BEGIN:STANDARD
TZOFFSETFROM:-0500
TZOFFSETTO:-0600
TZNAME:CST
DTSTART:20251102T070000
END:STANDARD
BEGIN:DAYLIGHT
TZOFFSETFROM:-0600
TZOFFSETTO:-0500
TZNAME:CDT
DTSTART:20260308T080000
END:DAYLIGHT
BEGIN:STANDARD
TZOFFSETFROM:-0500
TZOFFSETTO:-0600
TZNAME:CST
DTSTART:20261101T070000
END:STANDARD
END:VTIMEZONE
BEGIN:VEVENT
DTSTART;VALUE=DATE:20251214
DTEND;VALUE=DATE:20251215
DTSTAMP:20260424T052306
CREATED:20251107T045938Z
LAST-MODIFIED:20251107T051721Z
UID:588-1765670400-1765756799@www.lbmusicschool.com
SUMMARY:Winter Recital
DESCRIPTION:Join us for LB Music School’s annual Winter Recital!\nWhen: Sunday\, December 14th\, 2025 \nWhere: Peabody’s Black Box Theater (22 Foster Road\, Peabody\, MA) \nWho: LB Music students of all ages! (Drummers\, we will be holding a separate recital for you this year. Date TBD) \nCost: $35 per student. Includes two (2) guest tickets. \n\nRegistration for our December recital is now open through Wednesday\, November 26th\, 2025\nRegister Today! \n\nPurchase Additional Guest Tickets\n\nTwo guest tickets are included with each registration.\nPre-purchase additional guest tickets now for $10 per ticket. Tickets will be available at the door for $15 per ticket.\n\nPre-Purchase Guest Tickets
URL:https://www.lbmusicschool.com/event/recital/
LOCATION:Peabody’s Black Box Theater\, 22 Foster Road\, Peabody\, MA\, United States
CATEGORIES:Recital
ATTACH;FMTTYPE=image/jpeg:https://www.lbmusicschool.com/wp-content/uploads/2025/11/kid-singing.jpg
END:VEVENT
END:VCALENDAR